BEGIN:VCALENDAR
VERSION:2.0
PRODID:-//empowercdc.org//NONSGML kigkonsult.se iCalcreator 2.30.10//
CALSCALE:GREGORIAN
METHOD:PUBLISH
UID:73a3bf58-f193-4991-ac99-b5e7573391ca
X-WR-CALDESC:
X-WR-RELCALID:c39b2a9ce4a3fc10a4438e7d24488a5b
X-WR-TIMEZONE:America/Chicago
BEGIN:VTIMEZONE
TZID:America/Chicago
BEGIN:STANDARD
TZNAME:CST
DTSTART:20201101T020000
TZOFFSETFROM:-0500
TZOFFSETTO:-0600
RDATE:20211107T020000
END:STANDARD
BEGIN:DAYLIGHT
TZNAME:CDT
DTSTART:20210314T020000
TZOFFSETFROM:-0600
TZOFFSETTO:-0500
RDATE:20220313T020000
END:DAYLIGHT
END:VTIMEZONE
BEGIN:VEVENT
UID:46af637b-23e4-43c1-afeb-e44d6667aba6
DTSTAMP:20260424T150103Z
DESCRIPTION:
DTSTART;TZID=America/Chicago:20210415T140000
DTEND;TZID=America/Chicago:20210415T170000
LOCATION:
SUMMARY:Let's Get Crafty
END:VEVENT
END:VCALENDAR
