BEGIN:VCALENDAR
VERSION:2.0
PRODID:-//empowercdc.org//NONSGML kigkonsult.se iCalcreator 2.30.10//
CALSCALE:GREGORIAN
METHOD:PUBLISH
UID:55f08544-3658-4845-8485-ada0e2ab216b
X-WR-CALDESC:
X-WR-RELCALID:fcd73eb7243bd12631665049ff584cab
X-WR-TIMEZONE:America/Chicago
BEGIN:VTIMEZONE
TZID:America/Chicago
BEGIN:STANDARD
TZNAME:CST
DTSTART:20201101T020000
TZOFFSETFROM:-0500
TZOFFSETTO:-0600
RDATE:20211107T020000
END:STANDARD
BEGIN:DAYLIGHT
TZNAME:CDT
DTSTART:20210314T020000
TZOFFSETFROM:-0600
TZOFFSETTO:-0500
RDATE:20220313T020000
END:DAYLIGHT
END:VTIMEZONE
BEGIN:VEVENT
UID:7b46c72a-7634-44a8-abf1-62718a40ce1e
DTSTAMP:20260424T150421Z
DESCRIPTION:
DTSTART;TZID=America/Chicago:20210415T090000
DTEND;TZID=America/Chicago:20210415T100000
LOCATION:
SUMMARY:Joy Fully Healthy
END:VEVENT
END:VCALENDAR
