BEGIN:VCALENDAR
VERSION:2.0
PRODID:-//empowercdc.org//NONSGML kigkonsult.se iCalcreator 2.30.10//
CALSCALE:GREGORIAN
METHOD:PUBLISH
UID:0e5308e3-1ecf-4b86-853a-e90cb8e1c83f
X-WR-CALDESC:Stop by to pick up cupcakes and ice cream!
X-WR-RELCALID:400f855f1ac0e3cef3b9ebfe97e18d2d
X-WR-TIMEZONE:America/Chicago
BEGIN:VTIMEZONE
TZID:America/Chicago
BEGIN:STANDARD
TZNAME:CST
DTSTART:20201101T020000
TZOFFSETFROM:-0500
TZOFFSETTO:-0600
RDATE:20211107T020000
END:STANDARD
BEGIN:DAYLIGHT
TZNAME:CDT
DTSTART:20210314T020000
TZOFFSETFROM:-0600
TZOFFSETTO:-0500
RDATE:20220313T020000
END:DAYLIGHT
END:VTIMEZONE
BEGIN:VEVENT
UID:70ef5259-d512-4fc1-b8b4-9e73d6f50070
DTSTAMP:20260424T145917Z
DESCRIPTION:Stop by to pick up cupcakes and ice cream!
DTSTART;TZID=America/Chicago:20210414T120000
DTEND;TZID=America/Chicago:20210414T130000
LOCATION:
SUMMARY:Senior Birthday Event
END:VEVENT
END:VCALENDAR
