BEGIN:VCALENDAR
VERSION:2.0
PRODID:-//empowercdc.org//NONSGML kigkonsult.se iCalcreator 2.30.10//
CALSCALE:GREGORIAN
METHOD:PUBLISH
UID:48a06611-8073-497d-9773-2832c22e9b4a
X-WR-CALDESC:Attention Scrapbookers!\n\nMaking a scrapbook is an excellent 
 way to preserve memories. Set your creativity loose and use papers\, ribbo
 ns\, stickers\, and other embellishments to decorate your pages.\n\nDoor P
 rizes and Food included
X-WR-RELCALID:0c76115a1602c7940fa703949b4f889a
X-WR-TIMEZONE:America/Chicago
BEGIN:VTIMEZONE
TZID:America/Chicago
BEGIN:STANDARD
TZNAME:CST
DTSTART:20201101T020000
TZOFFSETFROM:-0500
TZOFFSETTO:-0600
RDATE:20211107T020000
END:STANDARD
BEGIN:DAYLIGHT
TZNAME:CDT
DTSTART:20210314T020000
TZOFFSETFROM:-0600
TZOFFSETTO:-0500
RDATE:20220313T020000
END:DAYLIGHT
END:VTIMEZONE
BEGIN:VEVENT
UID:0bf09a77-e392-4120-88c4-515623e2193e
DTSTAMP:20260424T145807Z
DESCRIPTION:Attention Scrapbookers!\n\nMaking a scrapbook is an excellent w
 ay to preserve memories. Set your creativity loose and use papers\, ribbon
 s\, stickers\, and other embellishments to decorate your pages.\n\nDoor Pr
 izes and Food included
DTSTART;TZID=America/Chicago:20210414T110000
DTEND;TZID=America/Chicago:20210414T120000
LOCATION:
SUMMARY:Let's Get Crafty
END:VEVENT
END:VCALENDAR
