BEGIN:VCALENDAR
VERSION:2.0
PRODID:-//empowercdc.org//NONSGML kigkonsult.se iCalcreator 2.30.10//
CALSCALE:GREGORIAN
METHOD:PUBLISH
UID:58c98474-9214-49e0-85f9-e4f1549b8fa7
X-WR-CALDESC:
X-WR-RELCALID:3d21dcf92df4ff259c56f0e6d08f2527
X-WR-TIMEZONE:America/Chicago
BEGIN:VTIMEZONE
TZID:America/Chicago
BEGIN:STANDARD
TZNAME:CST
DTSTART:20201101T020000
TZOFFSETFROM:-0500
TZOFFSETTO:-0600
RDATE:20211107T020000
END:STANDARD
BEGIN:DAYLIGHT
TZNAME:CDT
DTSTART:20210314T020000
TZOFFSETFROM:-0600
TZOFFSETTO:-0500
RDATE:20220313T020000
END:DAYLIGHT
END:VTIMEZONE
BEGIN:VEVENT
UID:7a1e02b7-4013-4139-a7e1-ed51dbe4358c
DTSTAMP:20260424T151254Z
DESCRIPTION:
DTSTART;TZID=America/Chicago:20210414T160000
DTEND;TZID=America/Chicago:20210414T170000
LOCATION:
SUMMARY:FLOWER POT PLANTING FOR NATIONAL GARDENING DAY
END:VEVENT
END:VCALENDAR
