BEGIN:VCALENDAR
VERSION:2.0
PRODID:-//empowercdc.org//NONSGML kigkonsult.se iCalcreator 2.30.10//
CALSCALE:GREGORIAN
METHOD:PUBLISH
UID:b5dbf14d-0f4e-4b3b-8d6d-76d6127c29d2
X-WR-CALDESC:
X-WR-RELCALID:f6edd3d95f47c9b2963f951ffb913a9b
X-WR-TIMEZONE:America/Chicago
BEGIN:VTIMEZONE
TZID:America/Chicago
BEGIN:STANDARD
TZNAME:CST
DTSTART:20201101T020000
TZOFFSETFROM:-0500
TZOFFSETTO:-0600
RDATE:20211107T020000
END:STANDARD
BEGIN:DAYLIGHT
TZNAME:CDT
DTSTART:20210314T020000
TZOFFSETFROM:-0600
TZOFFSETTO:-0500
RDATE:20220313T020000
END:DAYLIGHT
END:VTIMEZONE
BEGIN:VEVENT
UID:60e336b2-77cb-4d5a-b929-04654fd40da3
DTSTAMP:20260424T145756Z
DESCRIPTION:
DTSTART;TZID=America/Chicago:20210413T160000
DTEND;TZID=America/Chicago:20210413T170000
LOCATION:
SUMMARY:Birthday Social
END:VEVENT
END:VCALENDAR
