BEGIN:VCALENDAR
VERSION:2.0
PRODID:-//empowercdc.org//NONSGML kigkonsult.se iCalcreator 2.30.10//
CALSCALE:GREGORIAN
METHOD:PUBLISH
UID:d03d200d-fc3f-4f33-b534-7c379daa64f6
X-WR-CALDESC:
X-WR-RELCALID:0942755bec1fe4484a7b1ef9df26f609
X-WR-TIMEZONE:America/Chicago
BEGIN:VTIMEZONE
TZID:America/Chicago
BEGIN:STANDARD
TZNAME:CST
DTSTART:20201101T020000
TZOFFSETFROM:-0500
TZOFFSETTO:-0600
RDATE:20211107T020000
END:STANDARD
BEGIN:DAYLIGHT
TZNAME:CDT
DTSTART:20210314T020000
TZOFFSETFROM:-0600
TZOFFSETTO:-0500
RDATE:20220313T020000
END:DAYLIGHT
END:VTIMEZONE
BEGIN:VEVENT
UID:ffc51ab6-9d90-4f43-a4bd-f7eeeb05041f
DTSTAMP:20260424T145824Z
DESCRIPTION:
DTSTART;TZID=America/Chicago:20210412T160000
DTEND;TZID=America/Chicago:20210412T210000
LOCATION:
SUMMARY:Birthday Social
END:VEVENT
END:VCALENDAR
