BEGIN:VCALENDAR
VERSION:2.0
PRODID:-//empowercdc.org//NONSGML kigkonsult.se iCalcreator 2.30.10//
CALSCALE:GREGORIAN
METHOD:PUBLISH
UID:cd95ee79-647f-43f1-8a99-025254ca6e1e
X-WR-CALDESC:
X-WR-RELCALID:b64aca1147793213a0aca7d21e53d387
X-WR-TIMEZONE:America/Chicago
BEGIN:VTIMEZONE
TZID:America/Chicago
BEGIN:STANDARD
TZNAME:CST
DTSTART:20201101T020000
TZOFFSETFROM:-0500
TZOFFSETTO:-0600
RDATE:20211107T020000
END:STANDARD
BEGIN:DAYLIGHT
TZNAME:CDT
DTSTART:20210314T020000
TZOFFSETFROM:-0600
TZOFFSETTO:-0500
RDATE:20220313T020000
END:DAYLIGHT
END:VTIMEZONE
BEGIN:VEVENT
UID:b37b3aa2-8ecd-4ded-9e18-0f92b8b24bfb
DTSTAMP:20260424T145632Z
DESCRIPTION:
DTSTART;TZID=America/Chicago:20210409T160000
DTEND;TZID=America/Chicago:20210409T170000
LOCATION:
SUMMARY:Spring Cleaning Bingo
END:VEVENT
END:VCALENDAR
