BEGIN:VCALENDAR
VERSION:2.0
PRODID:-//empowercdc.org//NONSGML kigkonsult.se iCalcreator 2.30.10//
CALSCALE:GREGORIAN
METHOD:PUBLISH
UID:5659d164-68ee-4f72-a145-ee2de3ab7722
X-WR-CALDESC:
X-WR-RELCALID:79bc23b392fc5b4a5df24bcaec38a7b4
X-WR-TIMEZONE:America/Chicago
BEGIN:VTIMEZONE
TZID:America/Chicago
BEGIN:STANDARD
TZNAME:CST
DTSTART:20201101T020000
TZOFFSETFROM:-0500
TZOFFSETTO:-0600
RDATE:20211107T020000
END:STANDARD
BEGIN:DAYLIGHT
TZNAME:CDT
DTSTART:20210314T020000
TZOFFSETFROM:-0600
TZOFFSETTO:-0500
RDATE:20220313T020000
END:DAYLIGHT
END:VTIMEZONE
BEGIN:VEVENT
UID:b40d658b-c1f6-4a24-a449-057835b9aeb8
DTSTAMP:20260424T150038Z
DESCRIPTION:
DTSTART;TZID=America/Chicago:20210408T100000
DTEND;TZID=America/Chicago:20210408T110000
LOCATION:
SUMMARY:SENIOR SPRING CELEBRATION AND BINGO @ 10 AM
END:VEVENT
END:VCALENDAR
