BEGIN:VCALENDAR
VERSION:2.0
PRODID:-//empowercdc.org//NONSGML kigkonsult.se iCalcreator 2.30.10//
CALSCALE:GREGORIAN
METHOD:PUBLISH
UID:6409ab2b-e561-4865-8302-c0f38cef6ebd
X-WR-CALDESC:
X-WR-RELCALID:30161552b3b436513e6d818afb684a54
X-WR-TIMEZONE:America/Chicago
BEGIN:VTIMEZONE
TZID:America/Chicago
BEGIN:STANDARD
TZNAME:CST
DTSTART:20201101T020000
TZOFFSETFROM:-0500
TZOFFSETTO:-0600
RDATE:20211107T020000
END:STANDARD
BEGIN:DAYLIGHT
TZNAME:CDT
DTSTART:20210314T020000
TZOFFSETFROM:-0600
TZOFFSETTO:-0500
RDATE:20220313T020000
END:DAYLIGHT
END:VTIMEZONE
BEGIN:VEVENT
UID:29180d5f-eea9-4aa8-898c-7825ffb8bff5
DTSTAMP:20260424T150036Z
DESCRIPTION:
DTSTART;TZID=America/Chicago:20210408T090000
DTEND;TZID=America/Chicago:20210408T100000
LOCATION:
SUMMARY:Joy Fully Healthy
END:VEVENT
END:VCALENDAR
