BEGIN:VCALENDAR
VERSION:2.0
PRODID:-//empowercdc.org//NONSGML kigkonsult.se iCalcreator 2.30.10//
CALSCALE:GREGORIAN
METHOD:PUBLISH
UID:82b7854b-4b4a-4ccd-9799-5aff801a00da
X-WR-CALDESC:Stay safe and get back to business!\n\nResidents will receive 
 hand sanitizer\, masks\, disposable gloves\, and multi-purpose cleaner!\n
 \nFood and Door prizes will be given
X-WR-RELCALID:f392a07f26180ead25e1205f1058a8d7
X-WR-TIMEZONE:America/Chicago
BEGIN:VTIMEZONE
TZID:America/Chicago
BEGIN:STANDARD
TZNAME:CST
DTSTART:20201101T020000
TZOFFSETFROM:-0500
TZOFFSETTO:-0600
RDATE:20211107T020000
END:STANDARD
BEGIN:DAYLIGHT
TZNAME:CDT
DTSTART:20210314T020000
TZOFFSETFROM:-0600
TZOFFSETTO:-0500
RDATE:20220313T020000
END:DAYLIGHT
END:VTIMEZONE
BEGIN:VEVENT
UID:76497242-8519-4198-a578-4d13581bd1aa
DTSTAMP:20260424T145636Z
DESCRIPTION:Stay safe and get back to business!\n\nResidents will receive h
 and sanitizer\, masks\, disposable gloves\, and multi-purpose cleaner!\n\n
 Food and Door prizes will be given
DTSTART;TZID=America/Chicago:20210407T120000
DTEND;TZID=America/Chicago:20210407T130000
LOCATION:
SUMMARY:PPE Distribution
END:VEVENT
END:VCALENDAR
