BEGIN:VCALENDAR
VERSION:2.0
PRODID:-//empowercdc.org//NONSGML kigkonsult.se iCalcreator 2.30.10//
CALSCALE:GREGORIAN
METHOD:PUBLISH
UID:81ea0ed4-6a7e-480d-8465-cff9631c0ccb
X-WR-CALDESC:Join us for a healthy food demonstration! No cooking experienc
 e is needed! The recipe will be provided.
X-WR-RELCALID:8e9a81bd7478e6ffd066791d05d8e1d0
X-WR-TIMEZONE:America/Chicago
BEGIN:VTIMEZONE
TZID:America/Chicago
BEGIN:STANDARD
TZNAME:CST
DTSTART:20201101T020000
TZOFFSETFROM:-0500
TZOFFSETTO:-0600
RDATE:20211107T020000
END:STANDARD
BEGIN:DAYLIGHT
TZNAME:CDT
DTSTART:20210314T020000
TZOFFSETFROM:-0600
TZOFFSETTO:-0500
RDATE:20220313T020000
END:DAYLIGHT
END:VTIMEZONE
BEGIN:VEVENT
UID:5eb35fe6-9afe-4eed-bbb8-6a5c27d82f8e
DTSTAMP:20260424T150036Z
DESCRIPTION:Join us for a healthy food demonstration! No cooking experience
  is needed! The recipe will be provided.
DTSTART;TZID=America/Chicago:20210407T100000
DTEND;TZID=America/Chicago:20210407T110000
LOCATION:
SUMMARY:Healthy Food Demonstration
END:VEVENT
END:VCALENDAR
