BEGIN:VCALENDAR
VERSION:2.0
PRODID:-//empowercdc.org//NONSGML kigkonsult.se iCalcreator 2.30.10//
CALSCALE:GREGORIAN
METHOD:PUBLISH
UID:d20cbdf3-9f66-4a2b-bd91-55bf93399ea7
X-WR-CALDESC:
X-WR-RELCALID:03580da843c27901033cedb79db8a196
X-WR-TIMEZONE:America/Chicago
BEGIN:VTIMEZONE
TZID:America/Chicago
BEGIN:STANDARD
TZNAME:CST
DTSTART:20201101T020000
TZOFFSETFROM:-0500
TZOFFSETTO:-0600
RDATE:20211107T020000
END:STANDARD
BEGIN:DAYLIGHT
TZNAME:CDT
DTSTART:20210314T020000
TZOFFSETFROM:-0600
TZOFFSETTO:-0500
RDATE:20220313T020000
END:DAYLIGHT
END:VTIMEZONE
BEGIN:VEVENT
UID:2bf9b1ce-fbea-40da-9233-bddd17fc0cfb
DTSTAMP:20260424T145915Z
DESCRIPTION:
DTSTART;TZID=America/Chicago:20210407T160000
DTEND;TZID=America/Chicago:20210407T170000
LOCATION:
SUMMARY:DIY Velvet Poster
END:VEVENT
END:VCALENDAR
