BEGIN:VCALENDAR
VERSION:2.0
PRODID:-//empowercdc.org//NONSGML kigkonsult.se iCalcreator 2.30.10//
CALSCALE:GREGORIAN
METHOD:PUBLISH
UID:dbf62b69-4175-4fbd-bcb4-45568519a865
X-WR-CALDESC:
X-WR-RELCALID:ad5ee451310c918f2f3a675f86f8f208
X-WR-TIMEZONE:America/Chicago
BEGIN:VTIMEZONE
TZID:America/Chicago
BEGIN:STANDARD
TZNAME:CST
DTSTART:20201101T020000
TZOFFSETFROM:-0500
TZOFFSETTO:-0600
RDATE:20211107T020000
END:STANDARD
BEGIN:DAYLIGHT
TZNAME:CDT
DTSTART:20210314T020000
TZOFFSETFROM:-0600
TZOFFSETTO:-0500
RDATE:20220313T020000
END:DAYLIGHT
END:VTIMEZONE
BEGIN:VEVENT
UID:7f8f7b2d-4b27-4bc0-ab69-cc8b49c970d5
DTSTAMP:20260424T150340Z
DESCRIPTION:
DTSTART;TZID=America/Chicago:20210407T150000
DTEND;TZID=America/Chicago:20210407T160000
LOCATION:
SUMMARY:BINGO W/ UNITED HEALTHCARE
END:VEVENT
END:VCALENDAR
