BEGIN:VCALENDAR
VERSION:2.0
PRODID:-//empowercdc.org//NONSGML kigkonsult.se iCalcreator 2.30.10//
CALSCALE:GREGORIAN
METHOD:PUBLISH
UID:4e7cba78-78a6-4ceb-abe0-349e5b85a4df
X-WR-CALDESC:Residents will receive a food package and two bottles of hand 
 sanitizer. \n\nDoor prizes\, snacks\, and refreshments will be provided!
X-WR-RELCALID:68720790081fc42bf1009cbd02e9ef2e
X-WR-TIMEZONE:America/Chicago
BEGIN:VTIMEZONE
TZID:America/Chicago
BEGIN:STANDARD
TZNAME:CST
DTSTART:20201101T020000
TZOFFSETFROM:-0500
TZOFFSETTO:-0600
RDATE:20211107T020000
END:STANDARD
BEGIN:DAYLIGHT
TZNAME:CDT
DTSTART:20210314T020000
TZOFFSETFROM:-0600
TZOFFSETTO:-0500
RDATE:20220313T020000
END:DAYLIGHT
END:VTIMEZONE
BEGIN:VEVENT
UID:6444ad8d-f35b-482f-8e09-816fdc75b8af
DTSTAMP:20260424T145755Z
DESCRIPTION:Residents will receive a food package and two bottles of hand s
 anitizer. \n\nDoor prizes\, snacks\, and refreshments will be provided!
DTSTART;TZID=America/Chicago:20210406T120000
DTEND;TZID=America/Chicago:20210406T130000
LOCATION:
SUMMARY:Food Distribution
END:VEVENT
END:VCALENDAR
