BEGIN:VCALENDAR
VERSION:2.0
PRODID:-//empowercdc.org//NONSGML kigkonsult.se iCalcreator 2.30.10//
CALSCALE:GREGORIAN
METHOD:PUBLISH
UID:5d19df9e-f810-4630-8c44-8588312c38fb
X-WR-CALDESC:
X-WR-RELCALID:691a070e2a77946b353f1a3cdde85d68
X-WR-TIMEZONE:America/Chicago
BEGIN:VTIMEZONE
TZID:America/Chicago
BEGIN:STANDARD
TZNAME:CST
DTSTART:20201101T020000
TZOFFSETFROM:-0500
TZOFFSETTO:-0600
RDATE:20211107T020000
END:STANDARD
BEGIN:DAYLIGHT
TZNAME:CDT
DTSTART:20210314T020000
TZOFFSETFROM:-0600
TZOFFSETTO:-0500
RDATE:20220313T020000
END:DAYLIGHT
END:VTIMEZONE
BEGIN:VEVENT
UID:f530bd76-e0f9-43ef-859b-26e4443cc3e8
DTSTAMP:20260424T145824Z
DESCRIPTION:
DTSTART;TZID=America/Chicago:20210406T160000
DTEND;TZID=America/Chicago:20210406T170000
LOCATION:
SUMMARY:Coloring and Activity Books
END:VEVENT
END:VCALENDAR
