BEGIN:VCALENDAR
VERSION:2.0
PRODID:-//empowercdc.org//NONSGML kigkonsult.se iCalcreator 2.30.10//
CALSCALE:GREGORIAN
METHOD:PUBLISH
UID:2ccddeb7-bfd0-4c40-a8e0-d2284bc1005f
X-WR-CALDESC:
X-WR-RELCALID:bb54f5366349b3007076c2f6af1f89d9
X-WR-TIMEZONE:America/Chicago
BEGIN:VTIMEZONE
TZID:America/Chicago
BEGIN:STANDARD
TZNAME:CST
DTSTART:20201101T020000
TZOFFSETFROM:-0500
TZOFFSETTO:-0600
RDATE:20211107T020000
END:STANDARD
BEGIN:DAYLIGHT
TZNAME:CDT
DTSTART:20210314T020000
TZOFFSETFROM:-0600
TZOFFSETTO:-0500
RDATE:20220313T020000
END:DAYLIGHT
END:VTIMEZONE
BEGIN:VEVENT
UID:3c02d0ba-19e3-4ad3-b7c7-c9833b987a48
DTSTAMP:20260424T145750Z
DESCRIPTION:
DTSTART;TZID=America/Chicago:20210405T103000
DTEND;TZID=America/Chicago:20210405T113000
LOCATION:
SUMMARY:Randall's Trip
END:VEVENT
END:VCALENDAR
