BEGIN:VCALENDAR
VERSION:2.0
PRODID:-//empowercdc.org//NONSGML kigkonsult.se iCalcreator 2.30.10//
CALSCALE:GREGORIAN
METHOD:PUBLISH
UID:f4904581-cd2b-4d49-bcff-a23034e41311
X-WR-CALDESC:
X-WR-RELCALID:4d743faa9e9d5ade7a19b625ac0a46e7
X-WR-TIMEZONE:America/Chicago
BEGIN:VTIMEZONE
TZID:America/Chicago
BEGIN:STANDARD
TZNAME:CST
DTSTART:20201101T020000
TZOFFSETFROM:-0500
TZOFFSETTO:-0600
RDATE:20211107T020000
END:STANDARD
BEGIN:DAYLIGHT
TZNAME:CDT
DTSTART:20210314T020000
TZOFFSETFROM:-0600
TZOFFSETTO:-0500
RDATE:20220313T020000
END:DAYLIGHT
END:VTIMEZONE
BEGIN:VEVENT
UID:afff7e54-deba-4467-ba80-f51f81badff7
DTSTAMP:20260424T150210Z
DESCRIPTION:
DTSTART;TZID=America/Chicago:20210405T160000
DTEND;TZID=America/Chicago:20210405T170000
LOCATION:
SUMMARY:Let's Get Crafty: DIY Velvet Poster
END:VEVENT
END:VCALENDAR
