BEGIN:VCALENDAR
VERSION:2.0
PRODID:-//empowercdc.org//NONSGML kigkonsult.se iCalcreator 2.30.10//
CALSCALE:GREGORIAN
METHOD:PUBLISH
UID:8427d62f-489e-40f0-a18b-83be94ebf51e
X-WR-CALDESC:
X-WR-RELCALID:a0b29ce16fc46c38115f3ba6a70862a6
X-WR-TIMEZONE:America/Chicago
BEGIN:VTIMEZONE
TZID:America/Chicago
BEGIN:STANDARD
TZNAME:CST
DTSTART:20201101T020000
TZOFFSETFROM:-0500
TZOFFSETTO:-0600
RDATE:20211107T020000
END:STANDARD
BEGIN:DAYLIGHT
TZNAME:CDT
DTSTART:20210314T020000
TZOFFSETFROM:-0600
TZOFFSETTO:-0500
RDATE:20220313T020000
END:DAYLIGHT
END:VTIMEZONE
BEGIN:VEVENT
UID:5a9be38e-78fb-410c-9b45-86e983983048
DTSTAMP:20260424T145626Z
DESCRIPTION:
DTSTART;TZID=America/Chicago:20210402T110000
DTEND;TZID=America/Chicago:20210402T120000
LOCATION:
SUMMARY:Virtual Exercise: Backyard Bootcamp
END:VEVENT
END:VCALENDAR
