BEGIN:VCALENDAR
VERSION:2.0
PRODID:-//empowercdc.org//NONSGML kigkonsult.se iCalcreator 2.30.10//
CALSCALE:GREGORIAN
METHOD:PUBLISH
UID:c19ba28a-b4b4-4b5b-81bb-f4c197a7ba62
X-WR-CALDESC:
X-WR-RELCALID:9e5919a128e36b0fd62b6fe5ccf62f44
X-WR-TIMEZONE:America/Chicago
BEGIN:VTIMEZONE
TZID:America/Chicago
BEGIN:STANDARD
TZNAME:CST
DTSTART:20201101T020000
TZOFFSETFROM:-0500
TZOFFSETTO:-0600
RDATE:20211107T020000
END:STANDARD
BEGIN:DAYLIGHT
TZNAME:CDT
DTSTART:20210314T020000
TZOFFSETFROM:-0600
TZOFFSETTO:-0500
RDATE:20220313T020000
END:DAYLIGHT
END:VTIMEZONE
BEGIN:VEVENT
UID:e4c07ee6-61b9-4761-bac1-eeb4a7d61f26
DTSTAMP:20260424T150050Z
DESCRIPTION:
DTSTART;TZID=America/Chicago:20210401T140000
DTEND;TZID=America/Chicago:20210401T170000
LOCATION:
SUMMARY:Let's Get Crafty
END:VEVENT
END:VCALENDAR
