BEGIN:VCALENDAR
VERSION:2.0
PRODID:-//empowercdc.org//NONSGML kigkonsult.se iCalcreator 2.30.10//
CALSCALE:GREGORIAN
METHOD:PUBLISH
UID:d967355e-96b2-47ea-8aa5-c81f5972732b
X-WR-CALDESC:
X-WR-RELCALID:a10022cb4a8120c37849a73a50677290
X-WR-TIMEZONE:America/Chicago
BEGIN:VTIMEZONE
TZID:America/Chicago
BEGIN:STANDARD
TZNAME:CST
DTSTART:20201101T020000
TZOFFSETFROM:-0500
TZOFFSETTO:-0600
RDATE:20211107T020000
END:STANDARD
BEGIN:DAYLIGHT
TZNAME:CDT
DTSTART:20210314T020000
TZOFFSETFROM:-0600
TZOFFSETTO:-0500
RDATE:20220313T020000
END:DAYLIGHT
END:VTIMEZONE
BEGIN:VEVENT
UID:2f8651cd-c151-4a44-a994-eca5a3ad0760
DTSTAMP:20260424T145619Z
DESCRIPTION:
DTSTART;TZID=America/Chicago:20210331T163000
DTEND;TZID=America/Chicago:20210401T173000
LOCATION:
SUMMARY:Transportation: Kroger
END:VEVENT
END:VCALENDAR
