BEGIN:VCALENDAR
VERSION:2.0
PRODID:-//empowercdc.org//NONSGML kigkonsult.se iCalcreator 2.30.10//
CALSCALE:GREGORIAN
METHOD:PUBLISH
UID:d16a0107-3a06-4fa5-b732-b015b4fdb755
X-WR-CALDESC:
X-WR-RELCALID:66a0b81bbfaf58d7930ee402763c5181
X-WR-TIMEZONE:America/Chicago
BEGIN:VTIMEZONE
TZID:America/Chicago
BEGIN:STANDARD
TZNAME:CST
DTSTART:20201101T020000
TZOFFSETFROM:-0500
TZOFFSETTO:-0600
RDATE:20211107T020000
END:STANDARD
BEGIN:DAYLIGHT
TZNAME:CDT
DTSTART:20210314T020000
TZOFFSETFROM:-0600
TZOFFSETTO:-0500
RDATE:20220313T020000
END:DAYLIGHT
END:VTIMEZONE
BEGIN:VEVENT
UID:93bbad13-f525-4be9-af3f-cbf383b7d681
DTSTAMP:20260424T161349Z
DESCRIPTION:
DTSTART;TZID=America/Chicago:20210330T133000
DTEND;TZID=America/Chicago:20210330T140000
LOCATION:
SUMMARY:PPE DISTRIBUTION
END:VEVENT
END:VCALENDAR
