BEGIN:VCALENDAR
VERSION:2.0
PRODID:-//empowercdc.org//NONSGML kigkonsult.se iCalcreator 2.30.10//
CALSCALE:GREGORIAN
METHOD:PUBLISH
UID:60a35188-5c07-444f-9b29-027cd630c1bc
X-WR-CALDESC:Register and complete the quiz for a chance to win a gift card
 .
X-WR-RELCALID:c1a5721ee0f8a1f4d85067406b00e193
X-WR-TIMEZONE:America/Chicago
BEGIN:VTIMEZONE
TZID:America/Chicago
BEGIN:STANDARD
TZNAME:CST
DTSTART:20201101T020000
TZOFFSETFROM:-0500
TZOFFSETTO:-0600
RDATE:20211107T020000
END:STANDARD
BEGIN:DAYLIGHT
TZNAME:CDT
DTSTART:20210314T020000
TZOFFSETFROM:-0600
TZOFFSETTO:-0500
RDATE:20220313T020000
END:DAYLIGHT
END:VTIMEZONE
BEGIN:VEVENT
UID:4113876d-1181-492f-8381-46a200a9dbc8
DTSTAMP:20260424T163215Z
DESCRIPTION:Register and complete the quiz for a chance to win a gift card.
DTSTART;TZID=America/Chicago:20210329T160000
DTEND;TZID=America/Chicago:20210329T170000
LOCATION:
SUMMARY:Health and Nutrition: Quiz and Raffle
END:VEVENT
END:VCALENDAR
