BEGIN:VCALENDAR
VERSION:2.0
PRODID:-//empowercdc.org//NONSGML kigkonsult.se iCalcreator 2.30.10//
CALSCALE:GREGORIAN
METHOD:PUBLISH
UID:24263416-f63b-479d-a2b9-4d4bcc90792b
X-WR-CALDESC:
X-WR-RELCALID:7854ec677bcceb9dd1858d7f3f6c0402
X-WR-TIMEZONE:America/Chicago
BEGIN:VTIMEZONE
TZID:America/Chicago
BEGIN:STANDARD
TZNAME:CST
DTSTART:20201101T020000
TZOFFSETFROM:-0500
TZOFFSETTO:-0600
RDATE:20211107T020000
END:STANDARD
BEGIN:DAYLIGHT
TZNAME:CDT
DTSTART:20210314T020000
TZOFFSETFROM:-0600
TZOFFSETTO:-0500
RDATE:20220313T020000
END:DAYLIGHT
END:VTIMEZONE
BEGIN:VEVENT
UID:9f88f5bc-c17a-4d0f-add7-6b6f9bded09c
DTSTAMP:20260424T161354Z
DESCRIPTION:
DTSTART;TZID=America/Chicago:20210326T110000
DTEND;TZID=America/Chicago:20210326T120000
LOCATION:
SUMMARY:Virtual Exercise: Backyard Bootcamp
END:VEVENT
END:VCALENDAR
