BEGIN:VCALENDAR
VERSION:2.0
PRODID:-//empowercdc.org//NONSGML kigkonsult.se iCalcreator 2.30.10//
CALSCALE:GREGORIAN
METHOD:PUBLISH
UID:c84dc9dc-4e41-4d5d-abdb-b6f614978fe2
X-WR-CALDESC:
X-WR-RELCALID:c169d1adc3708abb96a4ef8411bc907c
X-WR-TIMEZONE:America/Chicago
BEGIN:VTIMEZONE
TZID:America/Chicago
BEGIN:STANDARD
TZNAME:CST
DTSTART:20201101T020000
TZOFFSETFROM:-0500
TZOFFSETTO:-0600
RDATE:20211107T020000
END:STANDARD
BEGIN:DAYLIGHT
TZNAME:CDT
DTSTART:20210314T020000
TZOFFSETFROM:-0600
TZOFFSETTO:-0500
RDATE:20220313T020000
END:DAYLIGHT
END:VTIMEZONE
BEGIN:VEVENT
UID:b0f69fc6-3957-4ed2-9081-03aabc586198
DTSTAMP:20260424T161232Z
DESCRIPTION:
DTSTART;TZID=America/Chicago:20210325T160000
DTEND;TZID=America/Chicago:20210325T163000
LOCATION:
SUMMARY:BREATHING TECHNIQUES VIRTUAL
END:VEVENT
END:VCALENDAR
