BEGIN:VCALENDAR
VERSION:2.0
PRODID:-//empowercdc.org//NONSGML kigkonsult.se iCalcreator 2.30.10//
CALSCALE:GREGORIAN
METHOD:PUBLISH
UID:08029a6d-76a6-4b59-bb4c-89941a7f3249
X-WR-CALDESC:
X-WR-RELCALID:22f61e5e0e7828292bbc0bdc58282622
X-WR-TIMEZONE:America/Chicago
BEGIN:VTIMEZONE
TZID:America/Chicago
BEGIN:STANDARD
TZNAME:CST
DTSTART:20201101T020000
TZOFFSETFROM:-0500
TZOFFSETTO:-0600
RDATE:20211107T020000
END:STANDARD
BEGIN:DAYLIGHT
TZNAME:CDT
DTSTART:20210314T020000
TZOFFSETFROM:-0600
TZOFFSETTO:-0500
RDATE:20220313T020000
END:DAYLIGHT
END:VTIMEZONE
BEGIN:VEVENT
UID:c98c44d9-9b71-42f4-9b14-c4aee95284a2
DTSTAMP:20260424T162801Z
DESCRIPTION:
DTSTART;TZID=America/Chicago:20210325T140000
DTEND;TZID=America/Chicago:20210325T170000
LOCATION:
SUMMARY:LET’S GET CRAFTY
END:VEVENT
END:VCALENDAR
