BEGIN:VCALENDAR
VERSION:2.0
PRODID:-//empowercdc.org//NONSGML kigkonsult.se iCalcreator 2.30.10//
CALSCALE:GREGORIAN
METHOD:PUBLISH
UID:4852d0c6-35b5-4e7f-bd8b-c7dde4a47a69
X-WR-CALDESC:Birthday Social: Cupcakes and Ice Cream
X-WR-RELCALID:205dbb08758b34f0b24858ff4ec5b89e
X-WR-TIMEZONE:America/Chicago
BEGIN:VTIMEZONE
TZID:America/Chicago
BEGIN:STANDARD
TZNAME:CST
DTSTART:20201101T020000
TZOFFSETFROM:-0500
TZOFFSETTO:-0600
RDATE:20211107T020000
END:STANDARD
BEGIN:DAYLIGHT
TZNAME:CDT
DTSTART:20210314T020000
TZOFFSETFROM:-0600
TZOFFSETTO:-0500
RDATE:20220313T020000
END:DAYLIGHT
END:VTIMEZONE
BEGIN:VEVENT
UID:b8c51fce-2b5e-4104-86e3-3617ec0ce9fc
DTSTAMP:20260424T162702Z
DESCRIPTION:Birthday Social: Cupcakes and Ice Cream
DTSTART;TZID=America/Chicago:20210323T160000
DTEND;TZID=America/Chicago:20210323T170000
LOCATION:
SUMMARY:Birthday Social
END:VEVENT
END:VCALENDAR
