BEGIN:VCALENDAR
VERSION:2.0
PRODID:-//empowercdc.org//NONSGML kigkonsult.se iCalcreator 2.30.10//
CALSCALE:GREGORIAN
METHOD:PUBLISH
UID:e2a2c56b-3579-444e-8902-afa3b6f72f67
X-WR-CALDESC:
X-WR-RELCALID:83e97be6210858ed2fad2fa54bd9cedf
X-WR-TIMEZONE:America/Chicago
BEGIN:VTIMEZONE
TZID:America/Chicago
BEGIN:STANDARD
TZNAME:CST
DTSTART:20201101T020000
TZOFFSETFROM:-0500
TZOFFSETTO:-0600
RDATE:20211107T020000
END:STANDARD
BEGIN:DAYLIGHT
TZNAME:CDT
DTSTART:20210314T020000
TZOFFSETFROM:-0600
TZOFFSETTO:-0500
RDATE:20220313T020000
END:DAYLIGHT
END:VTIMEZONE
BEGIN:VEVENT
UID:a8f0e406-97e0-43e8-8c61-fcb3b26b596a
DTSTAMP:20260424T162918Z
DESCRIPTION:
DTSTART;TZID=America/Chicago:20210323T120000
DTEND;TZID=America/Chicago:20210323T123000
LOCATION:
SUMMARY:ADULT COLORING BOOK DISTRIBUTION
END:VEVENT
END:VCALENDAR
