BEGIN:VCALENDAR
VERSION:2.0
PRODID:-//empowercdc.org//NONSGML kigkonsult.se iCalcreator 2.30.10//
CALSCALE:GREGORIAN
METHOD:PUBLISH
UID:f8d67bc1-d5a9-4c18-bb1e-0bacaa74cb36
X-WR-CALDESC:
X-WR-RELCALID:efb5896a5c507aa8457605a6660630d8
X-WR-TIMEZONE:America/Chicago
BEGIN:VTIMEZONE
TZID:America/Chicago
BEGIN:STANDARD
TZNAME:CST
DTSTART:20201101T020000
TZOFFSETFROM:-0500
TZOFFSETTO:-0600
RDATE:20211107T020000
END:STANDARD
BEGIN:DAYLIGHT
TZNAME:CDT
DTSTART:20210314T020000
TZOFFSETFROM:-0600
TZOFFSETTO:-0500
RDATE:20220313T020000
END:DAYLIGHT
END:VTIMEZONE
BEGIN:VEVENT
UID:2261c5b3-d5b8-4fcf-b25c-baf13b65ba0e
DTSTAMP:20260424T162801Z
DESCRIPTION:
DTSTART;TZID=America/Chicago:20210323T140000
DTEND;TZID=America/Chicago:20210323T143000
LOCATION:
SUMMARY:ADULT COLORING BOOK DISTRIBUTION
END:VEVENT
END:VCALENDAR
