BEGIN:VCALENDAR
VERSION:2.0
PRODID:-//empowercdc.org//NONSGML kigkonsult.se iCalcreator 2.30.10//
CALSCALE:GREGORIAN
METHOD:PUBLISH
UID:a5347a16-5c19-4086-a887-0d496004dfda
X-WR-CALDESC:Cupcakes\, ice cream and other goodies
X-WR-RELCALID:2f7288b3b3d54b59aed58e7c803d8898
X-WR-TIMEZONE:America/Chicago
BEGIN:VTIMEZONE
TZID:America/Chicago
BEGIN:STANDARD
TZNAME:CST
DTSTART:20201101T020000
TZOFFSETFROM:-0500
TZOFFSETTO:-0600
RDATE:20211107T020000
END:STANDARD
BEGIN:DAYLIGHT
TZNAME:CDT
DTSTART:20210314T020000
TZOFFSETFROM:-0600
TZOFFSETTO:-0500
RDATE:20220313T020000
END:DAYLIGHT
END:VTIMEZONE
BEGIN:VEVENT
UID:1c5e2940-9c08-4c39-8408-43f6f0a0dc98
DTSTAMP:20260424T162734Z
DESCRIPTION:Cupcakes\, ice cream and other goodies
DTSTART;TZID=America/Chicago:20210322T160000
DTEND;TZID=America/Chicago:20210322T170000
LOCATION:
SUMMARY:Birthday Social
END:VEVENT
END:VCALENDAR
