BEGIN:VCALENDAR
VERSION:2.0
PRODID:-//empowercdc.org//NONSGML kigkonsult.se iCalcreator 2.30.10//
CALSCALE:GREGORIAN
METHOD:PUBLISH
UID:d3a9cc14-5f87-499f-8cef-7917de7d6786
X-WR-CALDESC:
X-WR-RELCALID:fa0e6f7e590ed0f154d5733262ae4ade
X-WR-TIMEZONE:America/Chicago
BEGIN:VTIMEZONE
TZID:America/Chicago
BEGIN:STANDARD
TZNAME:CST
DTSTART:20201101T020000
TZOFFSETFROM:-0500
TZOFFSETTO:-0600
RDATE:20211107T020000
END:STANDARD
BEGIN:DAYLIGHT
TZNAME:CDT
DTSTART:20210314T020000
TZOFFSETFROM:-0600
TZOFFSETTO:-0500
RDATE:20220313T020000
END:DAYLIGHT
END:VTIMEZONE
BEGIN:VEVENT
UID:a75cfe93-b080-4845-a9e4-c8f3c1d21673
DTSTAMP:20260424T161355Z
DESCRIPTION:
DTSTART;TZID=America/Chicago:20210319T110000
DTEND;TZID=America/Chicago:20210319T120000
LOCATION:
SUMMARY:Virtual Exercise: Backyard Bootcamp
END:VEVENT
END:VCALENDAR
