BEGIN:VCALENDAR
VERSION:2.0
PRODID:-//empowercdc.org//NONSGML kigkonsult.se iCalcreator 2.30.10//
CALSCALE:GREGORIAN
METHOD:PUBLISH
UID:6cd47e80-6920-4b9e-af11-8d3e549c2580
X-WR-CALDESC:This is designed for resident to learn how to stuff balloons w
 ith fun stuff.
X-WR-RELCALID:8b906bd1dbc2772efc620759d4c953c4
X-WR-TIMEZONE:America/Chicago
BEGIN:VTIMEZONE
TZID:America/Chicago
BEGIN:STANDARD
TZNAME:CST
DTSTART:20201101T020000
TZOFFSETFROM:-0500
TZOFFSETTO:-0600
RDATE:20211107T020000
END:STANDARD
BEGIN:DAYLIGHT
TZNAME:CDT
DTSTART:20210314T020000
TZOFFSETFROM:-0600
TZOFFSETTO:-0500
RDATE:20220313T020000
END:DAYLIGHT
END:VTIMEZONE
BEGIN:VEVENT
UID:7c4ca980-7856-48fd-8e2d-91cef15f8845
DTSTAMP:20260424T161236Z
DESCRIPTION:This is designed for resident to learn how to stuff balloons wi
 th fun stuff.
DTSTART;TZID=America/Chicago:20210318T160000
DTEND;TZID=America/Chicago:20210318T173000
LOCATION:
SUMMARY:STUFF-A-LOONS
END:VEVENT
END:VCALENDAR
