BEGIN:VCALENDAR
VERSION:2.0
PRODID:-//empowercdc.org//NONSGML kigkonsult.se iCalcreator 2.30.10//
CALSCALE:GREGORIAN
METHOD:PUBLISH
UID:2f728c84-1a44-4186-a219-1f07c3631260
X-WR-CALDESC:
X-WR-RELCALID:a0556f6b9d1da904c44589a2e128ec98
X-WR-TIMEZONE:America/Chicago
BEGIN:VTIMEZONE
TZID:America/Chicago
BEGIN:STANDARD
TZNAME:CST
DTSTART:20201101T020000
TZOFFSETFROM:-0500
TZOFFSETTO:-0600
RDATE:20211107T020000
END:STANDARD
BEGIN:DAYLIGHT
TZNAME:CDT
DTSTART:20210314T020000
TZOFFSETFROM:-0600
TZOFFSETTO:-0500
RDATE:20220313T020000
END:DAYLIGHT
END:VTIMEZONE
BEGIN:VEVENT
UID:3784e9e6-f201-49ac-a560-a88f6d37a2ec
DTSTAMP:20260424T162637Z
DESCRIPTION:
DTSTART;TZID=America/Chicago:20210318T160000
DTEND;TZID=America/Chicago:20210318T163000
LOCATION:
SUMMARY:Food Distribution
END:VEVENT
END:VCALENDAR
