BEGIN:VCALENDAR
VERSION:2.0
PRODID:-//empowercdc.org//NONSGML kigkonsult.se iCalcreator 2.30.10//
CALSCALE:GREGORIAN
METHOD:PUBLISH
UID:2f089674-9ed5-4525-ae99-057683b3ed8a
X-WR-CALDESC:
X-WR-RELCALID:18450a9fc9f3c67394bd7baabbf62864
X-WR-TIMEZONE:America/Chicago
BEGIN:VTIMEZONE
TZID:America/Chicago
BEGIN:STANDARD
TZNAME:CST
DTSTART:20201101T020000
TZOFFSETFROM:-0500
TZOFFSETTO:-0600
RDATE:20211107T020000
END:STANDARD
BEGIN:DAYLIGHT
TZNAME:CDT
DTSTART:20210314T020000
TZOFFSETFROM:-0600
TZOFFSETTO:-0500
RDATE:20220313T020000
END:DAYLIGHT
END:VTIMEZONE
BEGIN:VEVENT
UID:52288340-a9e4-4982-8f1d-2b2db6fb21d2
DTSTAMP:20260424T162755Z
DESCRIPTION:
DTSTART;TZID=America/Chicago:20210318T130000
DTEND;TZID=America/Chicago:20210318T133000
LOCATION:
SUMMARY:Food Assistance Distribution
END:VEVENT
END:VCALENDAR
