BEGIN:VCALENDAR
VERSION:2.0
PRODID:-//empowercdc.org//NONSGML kigkonsult.se iCalcreator 2.30.10//
CALSCALE:GREGORIAN
METHOD:PUBLISH
UID:5a6dba85-5ef2-4011-b02c-752dae2e4e4d
X-WR-CALDESC:
X-WR-RELCALID:1daa3c93e9d102358e8864eb75d871d8
X-WR-TIMEZONE:America/Chicago
BEGIN:VTIMEZONE
TZID:America/Chicago
BEGIN:STANDARD
TZNAME:CST
DTSTART:20201101T020000
TZOFFSETFROM:-0500
TZOFFSETTO:-0600
RDATE:20211107T020000
END:STANDARD
BEGIN:DAYLIGHT
TZNAME:CDT
DTSTART:20210314T020000
TZOFFSETFROM:-0600
TZOFFSETTO:-0500
RDATE:20220313T020000
END:DAYLIGHT
END:VTIMEZONE
BEGIN:VEVENT
UID:38d43cb2-f290-4a9c-8c0a-eb29d9fc1507
DTSTAMP:20260424T162755Z
DESCRIPTION:
DTSTART;TZID=America/Chicago:20210318T140000
DTEND;TZID=America/Chicago:20210318T170000
LOCATION:
SUMMARY:LET’S GET CRAFTY
END:VEVENT
END:VCALENDAR
