BEGIN:VCALENDAR
VERSION:2.0
PRODID:-//empowercdc.org//NONSGML kigkonsult.se iCalcreator 2.30.10//
CALSCALE:GREGORIAN
METHOD:PUBLISH
UID:20628f43-067f-4e58-b0ba-38657158df6c
X-WR-CALDESC:
X-WR-RELCALID:e5d7f8bfeca93d7726c5a1cc33034ae1
X-WR-TIMEZONE:America/Chicago
BEGIN:VTIMEZONE
TZID:America/Chicago
BEGIN:STANDARD
TZNAME:CST
DTSTART:20201101T020000
TZOFFSETFROM:-0500
TZOFFSETTO:-0600
RDATE:20211107T020000
END:STANDARD
BEGIN:DAYLIGHT
TZNAME:CDT
DTSTART:20210314T020000
TZOFFSETFROM:-0600
TZOFFSETTO:-0500
RDATE:20220313T020000
END:DAYLIGHT
END:VTIMEZONE
BEGIN:VEVENT
UID:f58bf4bf-22f6-4214-a382-3fad854cc331
DTSTAMP:20260424T163116Z
DESCRIPTION:
DTSTART;TZID=America/Chicago:20210317T090000
DTEND;TZID=America/Chicago:20210317T100000
LOCATION:
SUMMARY:ROSENBERG/RICHMOND HELPING HANDS FOOD PANTRY TRIP
END:VEVENT
END:VCALENDAR
