BEGIN:VCALENDAR
VERSION:2.0
PRODID:-//empowercdc.org//NONSGML kigkonsult.se iCalcreator 2.30.10//
CALSCALE:GREGORIAN
METHOD:PUBLISH
UID:5f1cb52e-b42b-48bf-ad3e-70fc4ad088fc
X-WR-CALDESC:
X-WR-RELCALID:2e301b327a04a0176e3e1eb4df5b6524
X-WR-TIMEZONE:America/Chicago
BEGIN:VTIMEZONE
TZID:America/Chicago
BEGIN:STANDARD
TZNAME:CST
DTSTART:20201101T020000
TZOFFSETFROM:-0500
TZOFFSETTO:-0600
RDATE:20211107T020000
END:STANDARD
BEGIN:DAYLIGHT
TZNAME:CDT
DTSTART:20210314T020000
TZOFFSETFROM:-0600
TZOFFSETTO:-0500
RDATE:20220313T020000
END:DAYLIGHT
END:VTIMEZONE
BEGIN:VEVENT
UID:a6b8fa2d-03ea-428b-8989-c6d67b6718dd
DTSTAMP:20260424T163041Z
DESCRIPTION:
DTSTART;TZID=America/Chicago:20210317T160000
DTEND;TZID=America/Chicago:20210317T170000
LOCATION:
SUMMARY:Health and Nutrition: Quiz
END:VEVENT
END:VCALENDAR
