BEGIN:VCALENDAR
VERSION:2.0
PRODID:-//empowercdc.org//NONSGML kigkonsult.se iCalcreator 2.30.10//
CALSCALE:GREGORIAN
METHOD:PUBLISH
UID:e923f6a5-d1f8-4b36-bc10-a08ee44675e9
X-WR-CALDESC:
X-WR-RELCALID:273c65801f7f1d9c8a552c6620789129
X-WR-TIMEZONE:America/Chicago
BEGIN:VTIMEZONE
TZID:America/Chicago
BEGIN:STANDARD
TZNAME:CST
DTSTART:20201101T020000
TZOFFSETFROM:-0500
TZOFFSETTO:-0600
RDATE:20211107T020000
END:STANDARD
BEGIN:DAYLIGHT
TZNAME:CDT
DTSTART:20210314T020000
TZOFFSETFROM:-0600
TZOFFSETTO:-0500
RDATE:20220313T020000
END:DAYLIGHT
END:VTIMEZONE
BEGIN:VEVENT
UID:bd8a99b1-2551-43ba-8797-5bf3e70793bf
DTSTAMP:20260424T162508Z
DESCRIPTION:
DTSTART;TZID=America/Chicago:20210317T173000
DTEND;TZID=America/Chicago:20210317T183000
LOCATION:
SUMMARY:Character Building:  KINDNESS
END:VEVENT
END:VCALENDAR
