BEGIN:VCALENDAR
VERSION:2.0
PRODID:-//empowercdc.org//NONSGML kigkonsult.se iCalcreator 2.30.10//
CALSCALE:GREGORIAN
METHOD:PUBLISH
UID:b57e5f3e-10de-4109-94fd-264aba8d9d6e
X-WR-CALDESC:Movie Matinee with email
X-WR-RELCALID:84873d7b4569f5fa1480d4889567695e
X-WR-TIMEZONE:America/Chicago
BEGIN:VTIMEZONE
TZID:America/Chicago
BEGIN:STANDARD
TZNAME:CST
DTSTART:20201101T020000
TZOFFSETFROM:-0500
TZOFFSETTO:-0600
RDATE:20211107T020000
END:STANDARD
BEGIN:DAYLIGHT
TZNAME:CDT
DTSTART:20210314T020000
TZOFFSETFROM:-0600
TZOFFSETTO:-0500
RDATE:20220313T020000
END:DAYLIGHT
END:VTIMEZONE
BEGIN:VEVENT
UID:f7b962ee-48b7-4ff4-980a-c37d5bd2b1ca
DTSTAMP:20260424T162734Z
DESCRIPTION:Movie Matinee with email
DTSTART;TZID=America/Chicago:20210316T143000
DTEND;TZID=America/Chicago:20210316T163000
LOCATION:
SUMMARY:MOVIE MATINEE
END:VEVENT
END:VCALENDAR
