BEGIN:VCALENDAR
VERSION:2.0
PRODID:-//empowercdc.org//NONSGML kigkonsult.se iCalcreator 2.30.10//
CALSCALE:GREGORIAN
METHOD:PUBLISH
UID:2822191f-ffbc-47b2-9d56-1958e3082317
X-WR-CALDESC:
X-WR-RELCALID:58a30eda56d3aaa9a48a6ee9a8520d65
X-WR-TIMEZONE:America/Chicago
BEGIN:VTIMEZONE
TZID:America/Chicago
BEGIN:STANDARD
TZNAME:CST
DTSTART:20201101T020000
TZOFFSETFROM:-0500
TZOFFSETTO:-0600
RDATE:20211107T020000
END:STANDARD
BEGIN:DAYLIGHT
TZNAME:CDT
DTSTART:20210314T020000
TZOFFSETFROM:-0600
TZOFFSETTO:-0500
RDATE:20220313T020000
END:DAYLIGHT
END:VTIMEZONE
BEGIN:VEVENT
UID:17531111-ab5f-4fb6-ba60-db8de05160c4
DTSTAMP:20260424T162508Z
DESCRIPTION:
DTSTART;TZID=America/Chicago:20210316T140000
DTEND;TZID=America/Chicago:20210316T143000
LOCATION:
SUMMARY:DIY WREATH DISTRIBUTION
END:VEVENT
END:VCALENDAR
