BEGIN:VCALENDAR
VERSION:2.0
PRODID:-//empowercdc.org//NONSGML kigkonsult.se iCalcreator 2.30.10//
CALSCALE:GREGORIAN
METHOD:PUBLISH
UID:a61646fa-9e75-4a2f-9dda-7dc0fe7a3e2e
X-WR-CALDESC:Birthday Social at PKC... Cupcakes\, Ice Cream and a time to M
 eet and Greet with your neighbors.
X-WR-RELCALID:fd5533fa2754a93d50dd3bba11db9e11
X-WR-TIMEZONE:America/Chicago
BEGIN:VTIMEZONE
TZID:America/Chicago
BEGIN:STANDARD
TZNAME:CST
DTSTART:20201101T020000
TZOFFSETFROM:-0500
TZOFFSETTO:-0600
RDATE:20211107T020000
END:STANDARD
BEGIN:DAYLIGHT
TZNAME:CDT
DTSTART:20210314T020000
TZOFFSETFROM:-0600
TZOFFSETTO:-0500
RDATE:20220313T020000
END:DAYLIGHT
END:VTIMEZONE
BEGIN:VEVENT
UID:0410b8b6-bad0-4b21-bcd4-7309d9be8119
DTSTAMP:20260424T162637Z
DESCRIPTION:Birthday Social at PKC... Cupcakes\, Ice Cream and a time to Me
 et and Greet with your neighbors.
DTSTART;TZID=America/Chicago:20210316T130000
DTEND;TZID=America/Chicago:20210316T140000
LOCATION:
SUMMARY:Birthday Social
END:VEVENT
END:VCALENDAR
