BEGIN:VCALENDAR
VERSION:2.0
PRODID:-//empowercdc.org//NONSGML kigkonsult.se iCalcreator 2.30.10//
CALSCALE:GREGORIAN
METHOD:PUBLISH
UID:0be47bdf-0aa4-4716-ba67-9aa6a4f0e376
X-WR-CALDESC:Meet and Greet Your Neighbors... Cookies\, punch and a chance 
 to win a gift card.
X-WR-RELCALID:2dbd52e11ea3a3f3ef91ad14ad0120a3
X-WR-TIMEZONE:America/Chicago
BEGIN:VTIMEZONE
TZID:America/Chicago
BEGIN:STANDARD
TZNAME:CST
DTSTART:20201101T020000
TZOFFSETFROM:-0500
TZOFFSETTO:-0600
RDATE:20211107T020000
END:STANDARD
BEGIN:DAYLIGHT
TZNAME:CDT
DTSTART:20210314T020000
TZOFFSETFROM:-0600
TZOFFSETTO:-0500
RDATE:20220313T020000
END:DAYLIGHT
END:VTIMEZONE
BEGIN:VEVENT
UID:b3051107-a0fd-462f-b036-25f6756670c8
DTSTAMP:20260424T162600Z
DESCRIPTION:Meet and Greet Your Neighbors... Cookies\, punch and a chance t
 o win a gift card.
DTSTART;TZID=America/Chicago:20210315T160000
DTEND;TZID=America/Chicago:20210315T170000
LOCATION:
SUMMARY:Meet and Greet
END:VEVENT
END:VCALENDAR
