BEGIN:VCALENDAR
VERSION:2.0
PRODID:-//empowercdc.org//NONSGML kigkonsult.se iCalcreator 2.30.10//
CALSCALE:GREGORIAN
METHOD:PUBLISH
UID:935e735b-3971-421a-beaf-9935738edb60
X-WR-CALDESC:Learn how to sustain independence through healthy meal pattern
 s\, resource management\, and physical activity.
X-WR-RELCALID:4dd847eaee06811db38976d17aab591f
X-WR-TIMEZONE:America/Chicago
BEGIN:VTIMEZONE
TZID:America/Chicago
BEGIN:STANDARD
TZNAME:CST
DTSTART:20201101T020000
TZOFFSETFROM:-0500
TZOFFSETTO:-0600
RDATE:20211107T020000
END:STANDARD
BEGIN:DAYLIGHT
TZNAME:CDT
DTSTART:20210314T020000
TZOFFSETFROM:-0600
TZOFFSETTO:-0500
RDATE:20220313T020000
END:DAYLIGHT
END:VTIMEZONE
BEGIN:VEVENT
UID:5671700e-ad8b-4ddc-b159-9d63ce267b16
DTSTAMP:20260424T162848Z
DESCRIPTION:Learn how to sustain independence through healthy meal patterns
 \, resource management\, and physical activity.
DTSTART;TZID=America/Chicago:20210312T173000
DTEND;TZID=America/Chicago:20210312T183000
LOCATION:
SUMMARY:Joyfully Healthy
END:VEVENT
END:VCALENDAR
