BEGIN:VCALENDAR
VERSION:2.0
PRODID:-//empowercdc.org//NONSGML kigkonsult.se iCalcreator 2.30.10//
CALSCALE:GREGORIAN
METHOD:PUBLISH
UID:d7e6f01d-fb5a-47c5-8a62-b15338cd0dc3
X-WR-CALDESC:
X-WR-RELCALID:ef98f991eb76f495d86502eb01c21237
X-WR-TIMEZONE:America/Chicago
BEGIN:VTIMEZONE
TZID:America/Chicago
BEGIN:STANDARD
TZNAME:CST
DTSTART:20201101T020000
TZOFFSETFROM:-0500
TZOFFSETTO:-0600
RDATE:20211107T020000
END:STANDARD
BEGIN:DAYLIGHT
TZNAME:CDT
DTSTART:20210314T020000
TZOFFSETFROM:-0600
TZOFFSETTO:-0500
RDATE:20220313T020000
END:DAYLIGHT
END:VTIMEZONE
BEGIN:VEVENT
UID:bbb37575-a340-4682-aba8-059f8543562c
DTSTAMP:20260424T161349Z
DESCRIPTION:
DTSTART;TZID=America/Chicago:20210312T110000
DTEND;TZID=America/Chicago:20210312T120000
LOCATION:
SUMMARY:Virtual Exercise: Backyard Bootcamp
END:VEVENT
END:VCALENDAR
