BEGIN:VCALENDAR
VERSION:2.0
PRODID:-//empowercdc.org//NONSGML kigkonsult.se iCalcreator 2.30.10//
CALSCALE:GREGORIAN
METHOD:PUBLISH
UID:c8f70b0d-aee2-43b6-8398-2077d62123bc
X-WR-CALDESC:
X-WR-RELCALID:34c0b3c462c7b3d2756ec9d8299d2acc
X-WR-TIMEZONE:America/Chicago
BEGIN:VTIMEZONE
TZID:America/Chicago
BEGIN:STANDARD
TZNAME:CST
DTSTART:20201101T020000
TZOFFSETFROM:-0500
TZOFFSETTO:-0600
RDATE:20211107T020000
END:STANDARD
BEGIN:DAYLIGHT
TZNAME:CDT
DTSTART:20210314T020000
TZOFFSETFROM:-0600
TZOFFSETTO:-0500
RDATE:20220313T020000
END:DAYLIGHT
END:VTIMEZONE
BEGIN:VEVENT
UID:283656df-e379-473a-8a39-83a094d96595
DTSTAMP:20260424T162826Z
DESCRIPTION:
DTSTART;TZID=America/Chicago:20210311T140000
DTEND;TZID=America/Chicago:20210311T170000
LOCATION:
SUMMARY:LET’S GET CRAFTY
END:VEVENT
END:VCALENDAR
