BEGIN:VCALENDAR
VERSION:2.0
PRODID:-//empowercdc.org//NONSGML kigkonsult.se iCalcreator 2.30.10//
CALSCALE:GREGORIAN
METHOD:PUBLISH
UID:84b769f0-a6a5-46b7-a845-b2ec72865456
X-WR-CALDESC:
X-WR-RELCALID:17ca0991c54e8c1a8fcf132e76a8559d
X-WR-TIMEZONE:America/Chicago
BEGIN:VTIMEZONE
TZID:America/Chicago
BEGIN:STANDARD
TZNAME:CST
DTSTART:20201101T020000
TZOFFSETFROM:-0500
TZOFFSETTO:-0600
RDATE:20211107T020000
END:STANDARD
BEGIN:DAYLIGHT
TZNAME:CDT
DTSTART:20210314T020000
TZOFFSETFROM:-0600
TZOFFSETTO:-0500
RDATE:20220313T020000
END:DAYLIGHT
END:VTIMEZONE
BEGIN:VEVENT
UID:7a9c6694-262b-431c-b1e0-247c1e41ebef
DTSTAMP:20260424T162631Z
DESCRIPTION:
DTSTART;TZID=America/Chicago:20210310T160000
DTEND;TZID=America/Chicago:20210310T170000
LOCATION:
SUMMARY:COLOR ME CRAZY
END:VEVENT
END:VCALENDAR
