BEGIN:VCALENDAR
VERSION:2.0
PRODID:-//empowercdc.org//NONSGML kigkonsult.se iCalcreator 2.30.10//
CALSCALE:GREGORIAN
METHOD:PUBLISH
UID:b9f62717-ebf2-4b03-b6b1-56e4f4976781
X-WR-CALDESC:
X-WR-RELCALID:fd785220c87ce7bb291e1504c3c2d863
X-WR-TIMEZONE:America/Chicago
BEGIN:VTIMEZONE
TZID:America/Chicago
BEGIN:STANDARD
TZNAME:CST
DTSTART:20201101T020000
TZOFFSETFROM:-0500
TZOFFSETTO:-0600
RDATE:20211107T020000
END:STANDARD
BEGIN:DAYLIGHT
TZNAME:CDT
DTSTART:20200308T020000
TZOFFSETFROM:-0600
TZOFFSETTO:-0500
RDATE:20210314T020000
RDATE:20220313T020000
END:DAYLIGHT
END:VTIMEZONE
BEGIN:VEVENT
UID:0882fa33-7401-4921-867c-c83b8ee1bdb8
DTSTAMP:20260424T162528Z
DESCRIPTION:
DTSTART;TZID=America/Chicago:20210308T160000
DTEND;TZID=America/Chicago:20210308T170000
LOCATION:
SUMMARY:Meet and Greet
END:VEVENT
END:VCALENDAR
