BEGIN:VCALENDAR
VERSION:2.0
PRODID:-//empowercdc.org//NONSGML kigkonsult.se iCalcreator 2.30.10//
CALSCALE:GREGORIAN
METHOD:PUBLISH
UID:0b54cdb0-cb24-4bbb-a485-57eaaf3d91ed
X-WR-CALDESC:
X-WR-RELCALID:dd4c4abb5258810478e7fce71d30db3f
X-WR-TIMEZONE:America/Chicago
BEGIN:VTIMEZONE
TZID:America/Chicago
BEGIN:STANDARD
TZNAME:CST
DTSTART:20201101T020000
TZOFFSETFROM:-0500
TZOFFSETTO:-0600
RDATE:20211107T020000
END:STANDARD
BEGIN:DAYLIGHT
TZNAME:CDT
DTSTART:20200308T020000
TZOFFSETFROM:-0600
TZOFFSETTO:-0500
RDATE:20210314T020000
RDATE:20220313T020000
END:DAYLIGHT
END:VTIMEZONE
BEGIN:VEVENT
UID:d78fbdf2-7891-4eea-912a-227f2d49f9da
DTSTAMP:20260424T162918Z
DESCRIPTION:
DTSTART;TZID=America/Chicago:20210308T153000
DTEND;TZID=America/Chicago:20210308T170000
LOCATION:
SUMMARY:Meet and Greet Your Neighbors
END:VEVENT
END:VCALENDAR
