BEGIN:VCALENDAR
VERSION:2.0
PRODID:-//empowercdc.org//NONSGML kigkonsult.se iCalcreator 2.30.10//
CALSCALE:GREGORIAN
METHOD:PUBLISH
UID:677a5e4b-263a-4304-95c7-9c6d39a0f728
X-WR-CALDESC:Coloring Book Giveaway
X-WR-RELCALID:1b2d1724fa82313b4da0c29c75a38b36
X-WR-TIMEZONE:America/Chicago
BEGIN:VTIMEZONE
TZID:America/Chicago
BEGIN:STANDARD
TZNAME:CST
DTSTART:20201101T020000
TZOFFSETFROM:-0500
TZOFFSETTO:-0600
RDATE:20211107T020000
END:STANDARD
BEGIN:DAYLIGHT
TZNAME:CDT
DTSTART:20200308T020000
TZOFFSETFROM:-0600
TZOFFSETTO:-0500
RDATE:20210314T020000
RDATE:20220313T020000
END:DAYLIGHT
END:VTIMEZONE
BEGIN:VEVENT
UID:000b45e7-7ffc-41fb-ba3b-a58cd9f4c0ad
DTSTAMP:20260424T162702Z
DESCRIPTION:Coloring Book Giveaway
DTSTART;TZID=America/Chicago:20210304T160000
DTEND;TZID=America/Chicago:20210304T210000
LOCATION:
SUMMARY:Color Me Crazy
END:VEVENT
END:VCALENDAR
