BEGIN:VCALENDAR
VERSION:2.0
PRODID:-//empowercdc.org//NONSGML kigkonsult.se iCalcreator 2.30.10//
CALSCALE:GREGORIAN
METHOD:PUBLISH
UID:25c24353-5a5f-4961-915b-c8a3420c1244
X-WR-CALDESC:
X-WR-RELCALID:7d86ca603f1f5960fcbe05a6135dcf6a
X-WR-TIMEZONE:America/Chicago
BEGIN:VTIMEZONE
TZID:America/Chicago
BEGIN:STANDARD
TZNAME:CST
DTSTART:20201101T020000
TZOFFSETFROM:-0500
TZOFFSETTO:-0600
RDATE:20211107T020000
END:STANDARD
BEGIN:DAYLIGHT
TZNAME:CDT
DTSTART:20200308T020000
TZOFFSETFROM:-0600
TZOFFSETTO:-0500
RDATE:20210314T020000
RDATE:20220313T020000
END:DAYLIGHT
END:VTIMEZONE
BEGIN:VEVENT
UID:249a300b-b70c-4b31-a204-a791fe203d86
DTSTAMP:20260424T162934Z
DESCRIPTION:
DTSTART;TZID=America/Chicago:20210304T140000
DTEND;TZID=America/Chicago:20210304T170000
LOCATION:
SUMMARY:LET’S GET CRAFTY
END:VEVENT
END:VCALENDAR
